BEGIN:VCALENDAR
VERSION:2.0
CALSCALE:GREGORIAN
PRODID:adamgibbons/ics
METHOD:PUBLISH
X-PUBLISHED-TTL:PT1H
BEGIN:VEVENT
UID:488@tucsontimeline.info
SUMMARY:Midwife at Solar Culture
DTSTAMP:20260426T001324Z
DTSTART:20260206T020000Z
DESCRIPTION:Karima Walker will be joining Midwife and Amulets for the Tucso
	n stop of their\n"Happy Wife\, Happy Life" tour at Solar Culture on Februa
	ry 5th.\n\nFebruary 5th Solar Culture\n7:00pm doors 8:00pm Music\n$15 adv 
	$17 dos\nTickets at bestlifepresents.com [http://bestlifepresents.com]
URL:https://tucsontimeline.info/event/midwife-at-solar-culture
LOCATION:Solar Culture Gallery - 31 E Toole Ave\, Tucson\, AZ 85701
STATUS:CONFIRMED
CATEGORIES:music
X-ALT-DESC;FMTTYPE=text/html:<p>Karima Walker will be joining Midwife and A
	mulets for the Tucson stop of their "Happy Wife, Happy Life" tour at Solar
	 Culture on February 5th.<br><br>February 5th Solar Culture<br>7:00pm door
	s 8:00pm Music<br>$15 adv $17 dos<br>Tickets at <a href="http://bestlifepr
	esents.com" target="_blank">bestlifepresents.com</a></p>
END:VEVENT
END:VCALENDAR
